BEGIN:VCALENDAR
VERSION:2.0
PRODID:-//IHCL - ECPv4.6.22.1//NONSGML v1.0//EN
CALSCALE:GREGORIAN
METHOD:PUBLISH
X-WR-CALNAME:IHCL
X-ORIGINAL-URL:http://www.ihcl.nl
X-WR-CALDESC:Events for IHCL
BEGIN:VEVENT
DTSTART;VALUE=DATE:20190413
DTEND;VALUE=DATE:20190414
DTSTAMP:20260421T220502
CREATED:20180828T174719Z
LAST-MODIFIED:20180831T160112Z
UID:3173-1555113600-1555199999@www.ihcl.nl
SUMMARY:Closing Games
DESCRIPTION:
URL:http://www.ihcl.nl/index.php/event/closing-games-2/
END:VEVENT
END:VCALENDAR