BEGIN:VCALENDAR
VERSION:2.0
PRODID:-//IHCL - ECPv4.6.22.1//NONSGML v1.0//EN
CALSCALE:GREGORIAN
METHOD:PUBLISH
X-WR-CALNAME:IHCL
X-ORIGINAL-URL:http://www.ihcl.nl
X-WR-CALDESC:Events for IHCL
BEGIN:VEVENT
DTSTART;VALUE=DATE:20181006
DTEND;VALUE=DATE:20181007
DTSTAMP:20260421T220554
CREATED:20180831T174202Z
LAST-MODIFIED:20180831T174202Z
UID:3289-1538784000-1538870399@www.ihcl.nl
SUMMARY:IHCL trainingen beginnen weer!
DESCRIPTION:
URL:http://www.ihcl.nl/index.php/event/ihcl-trainingen-beginnen-weer/
END:VEVENT
END:VCALENDAR