BEGIN:VCALENDAR
VERSION:2.0
PRODID:-//IHCL - ECPv4.6.22.1//NONSGML v1.0//EN
CALSCALE:GREGORIAN
METHOD:PUBLISH
X-WR-CALNAME:IHCL
X-ORIGINAL-URL:http://www.ihcl.nl
X-WR-CALDESC:Events for IHCL
BEGIN:VEVENT
DTSTART;VALUE=DATE:20190111
DTEND;VALUE=DATE:20190114
DTSTAMP:20260422T032401
CREATED:20180828T174718Z
LAST-MODIFIED:20190126T204238Z
UID:3162-1547164800-1547423999@www.ihcl.nl
SUMMARY:ISU European Championships
DESCRIPTION:
URL:http://www.ihcl.nl/index.php/event/isu-european-championships-2/
END:VEVENT
END:VCALENDAR