BEGIN:VCALENDAR
VERSION:2.0
PRODID:-//IHCL - ECPv4.6.22.1//NONSGML v1.0//EN
CALSCALE:GREGORIAN
METHOD:PUBLISH
X-WR-CALNAME:IHCL
X-ORIGINAL-URL:http://www.ihcl.nl
X-WR-CALDESC:Events for IHCL
BEGIN:VEVENT
DTSTART;VALUE=DATE:20190125
DTEND;VALUE=DATE:20190128
DTSTAMP:20260422T050054
CREATED:20180828T174718Z
LAST-MODIFIED:20190126T204226Z
UID:3163-1548374400-1548633599@www.ihcl.nl
SUMMARY:ISU World Junior Championships
DESCRIPTION:
URL:http://www.ihcl.nl/index.php/event/isu-world-junior-championships-2/
END:VEVENT
END:VCALENDAR