BEGIN:VCALENDAR
VERSION:2.0
PRODID:-//IHCL - ECPv4.6.22.1//NONSGML v1.0//EN
CALSCALE:GREGORIAN
METHOD:PUBLISH
X-WR-CALNAME:IHCL
X-ORIGINAL-URL:http://www.ihcl.nl
X-WR-CALDESC:Events for IHCL
BEGIN:VEVENT
DTSTART;TZID=UTC+0:20181102T000000
DTEND;TZID=UTC+0:20181104T000000
DTSTAMP:20260421T234226
CREATED:20180828T174716Z
LAST-MODIFIED:20180828T174716Z
UID:3152-1541116800-1541289600@www.ihcl.nl
SUMMARY:ISU Worldcup 1
DESCRIPTION:
URL:http://www.ihcl.nl/index.php/event/isu-worldcup-1-2/
END:VEVENT
END:VCALENDAR