BEGIN:VCALENDAR
VERSION:2.0
PRODID:-//IHCL - ECPv4.6.22.1//NONSGML v1.0//EN
CALSCALE:GREGORIAN
METHOD:PUBLISH
X-WR-CALNAME:IHCL
X-ORIGINAL-URL:http://www.ihcl.nl
X-WR-CALDESC:Events for IHCL
BEGIN:VEVENT
DTSTART;TZID=UTC+0:20181109T000000
DTEND;TZID=UTC+0:20181111T000000
DTSTAMP:20260422T011456
CREATED:20180828T174717Z
LAST-MODIFIED:20180828T174717Z
UID:3153-1541721600-1541894400@www.ihcl.nl
SUMMARY:ISU Worldcup 2
DESCRIPTION:
URL:http://www.ihcl.nl/index.php/event/isu-worldcup-2-2/
END:VEVENT
END:VCALENDAR