BEGIN:VCALENDAR
VERSION:2.0
PRODID:-//IHCL - ECPv4.6.22.1//NONSGML v1.0//EN
CALSCALE:GREGORIAN
METHOD:PUBLISH
X-WR-CALNAME:IHCL
X-ORIGINAL-URL:http://www.ihcl.nl
X-WR-CALDESC:Events for IHCL
BEGIN:VEVENT
DTSTART;TZID=UTC+0:20181207T000000
DTEND;TZID=UTC+0:20181209T000000
DTSTAMP:20260421T234229
CREATED:20180828T174717Z
LAST-MODIFIED:20180828T174717Z
UID:3158-1544140800-1544313600@www.ihcl.nl
SUMMARY:ISU Worldcup 4
DESCRIPTION:
URL:http://www.ihcl.nl/index.php/event/isu-worldcup-4-2/
END:VEVENT
END:VCALENDAR