BEGIN:VCALENDAR
VERSION:2.0
PRODID:-//IHCL - ECPv4.6.22.1//NONSGML v1.0//EN
CALSCALE:GREGORIAN
METHOD:PUBLISH
X-WR-CALNAME:IHCL
X-ORIGINAL-URL:http://www.ihcl.nl
X-WR-CALDESC:Events for IHCL
BEGIN:VEVENT
DTSTART;VALUE=DATE:20190208
DTEND;VALUE=DATE:20190211
DTSTAMP:20260421T234226
CREATED:20180828T174718Z
LAST-MODIFIED:20190126T204115Z
UID:3166-1549584000-1549843199@www.ihcl.nl
SUMMARY:ISU Worldcup 6
DESCRIPTION:
URL:http://www.ihcl.nl/index.php/event/isu-worldcup-6-2/
CATEGORIES:World Cup
END:VEVENT
END:VCALENDAR