BEGIN:VCALENDAR
VERSION:2.0
PRODID:-//IHCL - ECPv4.6.22.1//NONSGML v1.0//EN
CALSCALE:GREGORIAN
METHOD:PUBLISH
X-WR-CALNAME:IHCL
X-ORIGINAL-URL:http://www.ihcl.nl
X-WR-CALDESC:Events for IHCL
BEGIN:VEVENT
DTSTART;VALUE=DATE:20190202
DTEND;VALUE=DATE:20190203
DTSTAMP:20260422T012609
CREATED:20180828T174718Z
LAST-MODIFIED:20190126T204203Z
UID:3165-1549065600-1549151999@www.ihcl.nl
SUMMARY:KNSB Cup 5
DESCRIPTION:
URL:http://www.ihcl.nl/index.php/event/knsb-cup-5-2/
END:VEVENT
END:VCALENDAR