BEGIN:VCALENDAR
VERSION:2.0
PRODID:-//IHCL - ECPv4.6.22.1//NONSGML v1.0//EN
CALSCALE:GREGORIAN
METHOD:PUBLISH
X-WR-CALNAME:IHCL
X-ORIGINAL-URL:http://www.ihcl.nl
X-WR-CALDESC:Events for IHCL
BEGIN:VEVENT
DTSTART;VALUE=DATE:20190309
DTEND;VALUE=DATE:20190311
DTSTAMP:20260421T220737
CREATED:20180828T174718Z
LAST-MODIFIED:20190126T204031Z
UID:3171-1552089600-1552262399@www.ihcl.nl
SUMMARY:National Junior Championships Netherlands
DESCRIPTION:
URL:http://www.ihcl.nl/index.php/event/national-junior-championships-netherlands-2/
CATEGORIES:Kampioenschap
END:VEVENT
END:VCALENDAR