BEGIN:VCALENDAR
VERSION:2.0
PRODID:-//IHCL - ECPv4.6.22.1//NONSGML v1.0//EN
CALSCALE:GREGORIAN
METHOD:PUBLISH
X-WR-CALNAME:IHCL
X-ORIGINAL-URL:http://www.ihcl.nl
X-WR-CALDESC:Events for IHCL
BEGIN:VEVENT
DTSTART;TZID=UTC+0:20181026T000000
DTEND;TZID=UTC+0:20181028T000000
DTSTAMP:20260422T011228
CREATED:20180828T174716Z
LAST-MODIFIED:20180828T174716Z
UID:3151-1540512000-1540684800@www.ihcl.nl
SUMMARY:Starclass 1 (CD-1)
DESCRIPTION:
URL:http://www.ihcl.nl/index.php/event/starclass-1-cd-1-2/
END:VEVENT
END:VCALENDAR