BEGIN:VCALENDAR
VERSION:2.0
PRODID:-//IHCL - ECPv4.6.22.1//NONSGML v1.0//EN
CALSCALE:GREGORIAN
METHOD:PUBLISH
X-WR-CALNAME:IHCL
X-ORIGINAL-URL:http://www.ihcl.nl
X-WR-CALDESC:Events for IHCL
BEGIN:VEVENT
DTSTART;TZID=UTC+0:20181207T000000
DTEND;TZID=UTC+0:20181209T000000
DTSTAMP:20260421T220542
CREATED:20180828T174717Z
LAST-MODIFIED:20180828T174717Z
UID:3159-1544140800-1544313600@www.ihcl.nl
SUMMARY:Starclass 4 (SAB-2)
DESCRIPTION:
URL:http://www.ihcl.nl/index.php/event/starclass-4-sab-2-2/
END:VEVENT
END:VCALENDAR