BEGIN:VCALENDAR
VERSION:2.0
PRODID:-//IHCL - ECPv4.6.22.1//NONSGML v1.0//EN
CALSCALE:GREGORIAN
METHOD:PUBLISH
X-WR-CALNAME:IHCL
X-ORIGINAL-URL:http://www.ihcl.nl
X-WR-CALDESC:Events for IHCL
BEGIN:VEVENT
DTSTART;VALUE=DATE:20190216
DTEND;VALUE=DATE:20190218
DTSTAMP:20260421T234624
CREATED:20180828T174718Z
LAST-MODIFIED:20190126T204105Z
UID:3168-1550275200-1550447999@www.ihcl.nl
SUMMARY:KNSB Cup 6
DESCRIPTION:
URL:http://www.ihcl.nl/index.php/event/knsb-cup-6-2/
CATEGORIES:KNSB Cup
END:VEVENT
END:VCALENDAR