BEGIN:VCALENDAR
VERSION:2.0
PRODID:-//IHCL - ECPv4.6.22.1//NONSGML v1.0//EN
CALSCALE:GREGORIAN
METHOD:PUBLISH
X-WR-CALNAME:IHCL
X-ORIGINAL-URL:http://www.ihcl.nl
X-WR-CALDESC:Events for IHCL
BEGIN:VEVENT
DTSTART;VALUE=DATE:20190308
DTEND;VALUE=DATE:20190311
DTSTAMP:20260421T221111
CREATED:20180828T174718Z
LAST-MODIFIED:20190126T204042Z
UID:3170-1552003200-1552262399@www.ihcl.nl
SUMMARY:ISU World Championships
DESCRIPTION:
URL:http://www.ihcl.nl/index.php/event/isu-world-championships-2/
CATEGORIES:Kampioenschap
END:VEVENT
END:VCALENDAR