BEGIN:VCALENDAR
VERSION:2.0
PRODID:-//IHCL - ECPv4.6.22.1//NONSGML v1.0//EN
CALSCALE:GREGORIAN
METHOD:PUBLISH
X-WR-CALNAME:IHCL
X-ORIGINAL-URL:http://www.ihcl.nl
X-WR-CALDESC:Events for IHCL
BEGIN:VEVENT
DTSTART;VALUE=DATE:20190803
DTEND;VALUE=DATE:20190811
DTSTAMP:20260421T133741
CREATED:20190322T150607Z
LAST-MODIFIED:20190322T151459Z
UID:3453-1564790400-1565481599@www.ihcl.nl
SUMMARY:Oberstdorf Zomerkamp
DESCRIPTION:Van 3 tot 10 augustus 2019 wordt de 8ste editie van het Oberstdorf Zomerkamp georganiseerd. Shorttrackers over de hele wereld mogen meedoen. Er zal elke avond een ijstraining zijn soms ook nog een ijstraining ’s ochtends. Naast ijstrainingen is er een welkomst barbecue\, een mountainrun\, en een triatlon. De triatlon\, de mountainrun en de wedstrijd (laatste 2 dagen) tellen samen mee voor het eindklassement. Op de laatste dag van het kamp is er ook een closing dinner. Klik hier voor meer informatie. \n
URL:http://www.ihcl.nl/index.php/event/oberstdorf-zomerkamp/
CATEGORIES:Open toernooi,wedstrijd
END:VEVENT
END:VCALENDAR